BEGIN:VCALENDAR
VERSION:2.0
PRODID:-//Briarcliff Manor Public Library - ECPv6.15.20//NONSGML v1.0//EN
CALSCALE:GREGORIAN
METHOD:PUBLISH
X-WR-CALNAME:Briarcliff Manor Public Library
X-ORIGINAL-URL:https://briarcliffmanorlibrary.org
X-WR-CALDESC:Events for Briarcliff Manor Public Library
REFRESH-INTERVAL;VALUE=DURATION:PT1H
X-Robots-Tag:noindex
X-PUBLISHED-TTL:PT1H
BEGIN:VTIMEZONE
TZID:America/New_York
BEGIN:DAYLIGHT
TZOFFSETFROM:-0500
TZOFFSETTO:-0400
TZNAME:EDT
DTSTART:20220313T070000
END:DAYLIGHT
BEGIN:STANDARD
TZOFFSETFROM:-0400
TZOFFSETTO:-0500
TZNAME:EST
DTSTART:20221106T060000
END:STANDARD
BEGIN:DAYLIGHT
TZOFFSETFROM:-0500
TZOFFSETTO:-0400
TZNAME:EDT
DTSTART:20230312T070000
END:DAYLIGHT
BEGIN:STANDARD
TZOFFSETFROM:-0400
TZOFFSETTO:-0500
TZNAME:EST
DTSTART:20231105T060000
END:STANDARD
BEGIN:DAYLIGHT
TZOFFSETFROM:-0500
TZOFFSETTO:-0400
TZNAME:EDT
DTSTART:20240310T070000
END:DAYLIGHT
BEGIN:STANDARD
TZOFFSETFROM:-0400
TZOFFSETTO:-0500
TZNAME:EST
DTSTART:20241103T060000
END:STANDARD
END:VTIMEZONE
BEGIN:VEVENT
DTSTART;TZID=America/New_York:20231102T153000
DTEND;TZID=America/New_York:20231102T163000
DTSTAMP:20260422T070232
CREATED:20231026T002039Z
LAST-MODIFIED:20231026T002039Z
UID:149-1698939000-1698942600@briarcliffmanorlibrary.org
SUMMARY:"Songs for Playful Children" with Kurt Gallagher
DESCRIPTION:Musician Kurt Gallagher keeps audiences busy!  \nChildren ages one & up will have a blast moving\, giggling & making music\,  \nas they stomp\, slap\, clap\, & flap along to Kurt’s interactive songs.  \n(All the while they’re learning lessons about music & language.) \n Thursdays at 3:30 PM (please note time change) \n· October 19 \n· October 26 no class \n· November 2 \n· November 9 \n· November 16 \nNovember 30 \n For information\, email Donna at dpesce@wlsmail.org. \nPlease drop in! \n 
URL:https://briarcliffmanorlibrary.org/event/songs-for-playful-children-with-kurt-gallagher/
END:VEVENT
END:VCALENDAR